BEGIN:VCALENDAR
VERSION:2.0
PRODID:-// - ECPv5.14.1//NONSGML v1.0//EN
CALSCALE:GREGORIAN
METHOD:PUBLISH
X-ORIGINAL-URL:https://bassriver-inc.org
X-WR-CALDESC:Events for 
BEGIN:VTIMEZONE
TZID:UTC
BEGIN:STANDARD
TZOFFSETFROM:+0000
TZOFFSETTO:+0000
TZNAME:UTC
DTSTART:20180101T000000
END:STANDARD
END:VTIMEZONE
BEGIN:VEVENT
DTSTART;VALUE=DATE:20180720
DTEND;VALUE=DATE:20180721
DTSTAMP:20260424T105039
CREATED:20180628T152729Z
LAST-MODIFIED:20180628T171138Z
UID:523-1532044800-1532131199@bassriver-inc.org
SUMMARY:North Shore Music Theater
DESCRIPTION:Hansel and Gretel
URL:https://bassriver-inc.org/events/north-shore-music-theater-3/
END:VEVENT
END:VCALENDAR