BEGIN:VCALENDAR
VERSION:2.0
PRODID:-// - ECPv5.14.1//NONSGML v1.0//EN
CALSCALE:GREGORIAN
METHOD:PUBLISH
X-ORIGINAL-URL:https://bassriver-inc.org
X-WR-CALDESC:Events for 
BEGIN:VTIMEZONE
TZID:UTC
BEGIN:STANDARD
TZOFFSETFROM:+0000
TZOFFSETTO:+0000
TZNAME:UTC
DTSTART:20180101T000000
END:STANDARD
END:VTIMEZONE
BEGIN:VEVENT
DTSTART;TZID=UTC:20180713T080000
DTEND;TZID=UTC:20180713T170000
DTSTAMP:20260424T191239
CREATED:20180628T151404Z
LAST-MODIFIED:20180628T151404Z
UID:513-1531468800-1531501200@bassriver-inc.org
SUMMARY:North Shore Music Theater
DESCRIPTION:
URL:https://bassriver-inc.org/events/north-shore-music-theater-2/
END:VEVENT
END:VCALENDAR