BEGIN:VCALENDAR
VERSION:2.0
PRODID:-// - ECPv5.14.1//NONSGML v1.0//EN
CALSCALE:GREGORIAN
METHOD:PUBLISH
X-ORIGINAL-URL:https://bassriver-inc.org
X-WR-CALDESC:Events for 
BEGIN:VTIMEZONE
TZID:UTC
BEGIN:STANDARD
TZOFFSETFROM:+0000
TZOFFSETTO:+0000
TZNAME:UTC
DTSTART:20210101T000000
END:STANDARD
END:VTIMEZONE
BEGIN:VEVENT
DTSTART;TZID=UTC:20211213T091500
DTEND;TZID=UTC:20211213T091500
DTSTAMP:20260423T213941
CREATED:20211210T192735Z
LAST-MODIFIED:20211210T192735Z
UID:731-1639386900-1639386900@bassriver-inc.org
SUMMARY:Check in
DESCRIPTION:DH – Fun Facts about Brazil\nDDS – Remote/Live Caroline’s Corner
URL:https://bassriver-inc.org/events/check-in/
LOCATION:Zoom
END:VEVENT
END:VCALENDAR