BEGIN:VCALENDAR
VERSION:2.0
PRODID:-// - ECPv5.14.1//NONSGML v1.0//EN
CALSCALE:GREGORIAN
METHOD:PUBLISH
X-ORIGINAL-URL:https://bassriver-inc.org
X-WR-CALDESC:Events for 
BEGIN:VTIMEZONE
TZID:UTC
BEGIN:STANDARD
TZOFFSETFROM:+0000
TZOFFSETTO:+0000
TZNAME:UTC
DTSTART:20210101T000000
END:STANDARD
END:VTIMEZONE
BEGIN:VEVENT
DTSTART;TZID=UTC:20211217T091500
DTEND;TZID=UTC:20211217T091500
DTSTAMP:20260422T193623
CREATED:20211210T194423Z
LAST-MODIFIED:20211210T194423Z
UID:765-1639732500-1639732500@bassriver-inc.org
SUMMARY:Check In
DESCRIPTION:DH – 7 Most Beautiful Christmas Towns\nDDS – Be Our Best! with Barb
URL:https://bassriver-inc.org/events/check-in-5/
LOCATION:Zoom
END:VEVENT
END:VCALENDAR