BEGIN:VCALENDAR
VERSION:2.0
PRODID:-// - ECPv5.14.1//NONSGML v1.0//EN
CALSCALE:GREGORIAN
METHOD:PUBLISH
X-ORIGINAL-URL:https://bassriver-inc.org
X-WR-CALDESC:Events for 
BEGIN:VTIMEZONE
TZID:UTC
BEGIN:STANDARD
TZOFFSETFROM:+0000
TZOFFSETTO:+0000
TZNAME:UTC
DTSTART:20210101T000000
END:STANDARD
END:VTIMEZONE
BEGIN:VEVENT
DTSTART;TZID=UTC:20211215T091500
DTEND;TZID=UTC:20211215T091500
DTSTAMP:20260423T080150
CREATED:20211210T193610Z
LAST-MODIFIED:20211210T193610Z
UID:749-1639559700-1639559700@bassriver-inc.org
SUMMARY:Check In
DESCRIPTION:DH and DDS – Smoke and Carbon Monoxide Alarms and Fire Extinguishers
URL:https://bassriver-inc.org/events/check-in-3/
LOCATION:Zoom
END:VEVENT
END:VCALENDAR