BEGIN:VCALENDAR
VERSION:2.0
PRODID:-// - ECPv5.14.1//NONSGML v1.0//EN
CALSCALE:GREGORIAN
METHOD:PUBLISH
X-ORIGINAL-URL:https://bassriver-inc.org
X-WR-CALDESC:Events for 
BEGIN:VTIMEZONE
TZID:UTC
BEGIN:STANDARD
TZOFFSETFROM:+0000
TZOFFSETTO:+0000
TZNAME:UTC
DTSTART:20180101T000000
END:STANDARD
END:VTIMEZONE
BEGIN:VEVENT
DTSTART;TZID=UTC:20180820T150000
DTEND;TZID=UTC:20180820T190000
DTSTAMP:20260423T234054
CREATED:20180724T133618Z
LAST-MODIFIED:20180724T133618Z
UID:651-1534777200-1534791600@bassriver-inc.org
SUMMARY:Beverly Farmers' Market
DESCRIPTION:Bass River will be participating in the Beverly Farmers’ Market
URL:https://bassriver-inc.org/events/beverly-farmers-market-2/
LOCATION:Beverly Farmers’ Market\, Rantoul Street & Railroad Ave\, Beverly\, MA\, 01915\, United States
END:VEVENT
END:VCALENDAR