BEGIN:VCALENDAR
VERSION:2.0
PRODID:-// - ECPv5.14.1//NONSGML v1.0//EN
CALSCALE:GREGORIAN
METHOD:PUBLISH
X-ORIGINAL-URL:https://bassriver-inc.org
X-WR-CALDESC:Events for 
BEGIN:VTIMEZONE
TZID:UTC
BEGIN:STANDARD
TZOFFSETFROM:+0000
TZOFFSETTO:+0000
TZNAME:UTC
DTSTART:20210101T000000
END:STANDARD
END:VTIMEZONE
BEGIN:VEVENT
DTSTART;TZID=UTC:20211214T140000
DTEND;TZID=UTC:20211214T140000
DTSTAMP:20260423T093123
CREATED:20211210T193518Z
LAST-MODIFIED:20211210T193518Z
UID:747-1639490400-1639490400@bassriver-inc.org
SUMMARY:2PM Zoom
DESCRIPTION:DH – Brazil Animals Video\nDDS – Adaptive Exercise Anne
URL:https://bassriver-inc.org/events/2pm-zoom/
LOCATION:Zoom
END:VEVENT
END:VCALENDAR